BEGIN:VCALENDAR
VERSION:2.0
PRODID:icalendar-ruby
CALSCALE:GREGORIAN
METHOD:PUBLISH
BEGIN:VEVENT
DTSTAMP:20260421T035811Z
UID:44-507207@ransomcanyonfellowship.com
DTSTART:20260723T013000Z
DTEND:20260723T023000Z
CLASS:PUBLIC
CREATED:20260420T172651
DESCRIPTION:Kids Ministry
LAST-MODIFIED:20260420T172651
LOCATION:Ransom Canyon Fellowship Church
SUMMARY:Kids Ministry
URL;VALUE=URI:https://www.ransomcanyonfellowship.com/events/kids-ministry/2
 026-07-22
END:VEVENT
END:VCALENDAR
