BEGIN:VCALENDAR
VERSION:2.0
PRODID:icalendar-ruby
CALSCALE:GREGORIAN
METHOD:PUBLISH
BEGIN:VEVENT
DTSTAMP:20260421T120907Z
UID:44-507584@ransomcanyonfellowship.com
DTSTART:20260903T013000Z
DTEND:20260903T023000Z
CLASS:PUBLIC
CREATED:20260421T043318
DESCRIPTION:Kids Ministry
LAST-MODIFIED:20260421T043318
LOCATION:Ransom Canyon Fellowship Church
SUMMARY:Kids Ministry
URL;VALUE=URI:https://www.ransomcanyonfellowship.com/events/kids-ministry/2
 026-09-02
END:VEVENT
END:VCALENDAR
