BEGIN:VCALENDAR
VERSION:2.0
PRODID:icalendar-ruby
CALSCALE:GREGORIAN
METHOD:PUBLISH
BEGIN:VEVENT
DTSTAMP:20260421T150254Z
UID:44-507957@ransomcanyonfellowship.com
DTSTART:20260917T013000Z
DTEND:20260917T023000Z
CLASS:PUBLIC
CREATED:20260421T070857
DESCRIPTION:Kids Ministry
LAST-MODIFIED:20260421T070857
LOCATION:Ransom Canyon Fellowship Church
SUMMARY:Kids Ministry
URL;VALUE=URI:https://www.ransomcanyonfellowship.com/events/kids-ministry/2
 026-09-16
END:VEVENT
END:VCALENDAR
