BEGIN:VCALENDAR
VERSION:2.0
PRODID:icalendar-ruby
CALSCALE:GREGORIAN
METHOD:PUBLISH
BEGIN:VEVENT
DTSTAMP:20260421T163225Z
UID:44-507958@ransomcanyonfellowship.com
DTSTART:20260924T013000Z
DTEND:20260924T023000Z
CLASS:PUBLIC
CREATED:20260421T070857
DESCRIPTION:Kids Ministry
LAST-MODIFIED:20260421T070857
LOCATION:Ransom Canyon Fellowship Church
SUMMARY:Kids Ministry
URL;VALUE=URI:https://www.ransomcanyonfellowship.com/events/kids-ministry/2
 026-09-23
END:VEVENT
END:VCALENDAR
