BEGIN:VCALENDAR
VERSION:2.0
PRODID:icalendar-ruby
CALSCALE:GREGORIAN
METHOD:PUBLISH
BEGIN:VEVENT
DTSTAMP:20260421T205437Z
UID:44-508703@ransomcanyonfellowship.com
DTSTART:20261015T013000Z
DTEND:20261015T023000Z
CLASS:PUBLIC
CREATED:20260421T122451
DESCRIPTION:Kids Ministry
LAST-MODIFIED:20260421T122451
LOCATION:Ransom Canyon Fellowship Church
SUMMARY:Kids Ministry
URL;VALUE=URI:https://www.ransomcanyonfellowship.com/events/kids-ministry/2
 026-10-14
END:VEVENT
END:VCALENDAR
