BEGIN:VCALENDAR
VERSION:2.0
PRODID:icalendar-ruby
CALSCALE:GREGORIAN
METHOD:PUBLISH
BEGIN:VEVENT
DTSTAMP:20260421T235208Z
UID:44-509076@ransomcanyonfellowship.com
DTSTART:20261029T013000Z
DTEND:20261029T023000Z
CLASS:PUBLIC
CREATED:20260421T150216
DESCRIPTION:Kids Ministry
LAST-MODIFIED:20260421T150216
LOCATION:Ransom Canyon Fellowship Church
SUMMARY:Kids Ministry
URL;VALUE=URI:https://www.ransomcanyonfellowship.com/events/kids-ministry/2
 026-10-28
END:VEVENT
END:VCALENDAR
